BEGIN:VCALENDAR
VERSION:2.0
PRODID:-//Engler Callaway Baasten &amp; Sraga, LLC - ECPv6.10.2//NONSGML v1.0//EN
CALSCALE:GREGORIAN
METHOD:PUBLISH
X-ORIGINAL-URL:https://ecbslaw.com
X-WR-CALDESC:Events for Engler Callaway Baasten &amp; Sraga, LLC
REFRESH-INTERVAL;VALUE=DURATION:PT1H
X-Robots-Tag:noindex
X-PUBLISHED-TTL:PT1H
BEGIN:VTIMEZONE
TZID:America/Chicago
BEGIN:DAYLIGHT
TZOFFSETFROM:-0600
TZOFFSETTO:-0500
TZNAME:CDT
DTSTART:20250309T080000
END:DAYLIGHT
BEGIN:STANDARD
TZOFFSETFROM:-0500
TZOFFSETTO:-0600
TZNAME:CST
DTSTART:20251102T070000
END:STANDARD
END:VTIMEZONE
BEGIN:VEVENT
DTSTART;TZID=America/Chicago:20250307T131500
DTEND;TZID=America/Chicago:20250307T153000
DTSTAMP:20260422T051212
CREATED:20250307T163112Z
LAST-MODIFIED:20250307T163112Z
UID:7923-1741353300-1741361400@ecbslaw.com
SUMMARY:IAASE Region 1 Presentation
DESCRIPTION:Cindy Baasten will present a Legal Refresher on Specially Designed Instruction at 1:15 p.m. the IAASE Region 1 meeting.\nThe meeting is being held at the Lake Forest Administration Center Board Room in Lake Forest\, IL.\nRegistration Required
URL:https://ecbslaw.com/events/iaase-region-1-presentation/
END:VEVENT
END:VCALENDAR